BEGIN:VCALENDAR
VERSION:2.0
PRODID:-//Les Aînés Actifs + de Shefford - ECPv6.13.2.1//NONSGML v1.0//EN
CALSCALE:GREGORIAN
METHOD:PUBLISH
X-ORIGINAL-URL:https://ainesactifs.com
X-WR-CALDESC:Événements pour Les Aînés Actifs + de Shefford
REFRESH-INTERVAL;VALUE=DURATION:PT1H
X-Robots-Tag:noindex
X-PUBLISHED-TTL:PT1H
BEGIN:VTIMEZONE
TZID:America/Toronto
BEGIN:DAYLIGHT
TZOFFSETFROM:-0500
TZOFFSETTO:-0400
TZNAME:EDT
DTSTART:20260308T070000
END:DAYLIGHT
BEGIN:STANDARD
TZOFFSETFROM:-0400
TZOFFSETTO:-0500
TZNAME:EST
DTSTART:20261101T060000
END:STANDARD
END:VTIMEZONE
BEGIN:VEVENT
DTSTART;TZID=America/Toronto:20260420T133000
DTEND;TZID=America/Toronto:20260420T150000
DTSTAMP:20260419T142243
CREATED:20260130T133657Z
LAST-MODIFIED:20260130T133719Z
UID:2738-1776691800-1776697200@ainesactifs.com
SUMMARY:SERVICE D'AIGUISAGE
DESCRIPTION:AIGUISAGE DE COUTEAUX\, CISEAUX\, OUTILS DE JARDINAGE\n\n\n\nAPPORTEZ-NOUS VOS OUTILS\, ON LES FERA AIGUISER PAR UN PROFESSIONNEL!\n\n\n\nQUAND:\n\n\n\nOn les accepteLundi20 avrilde 13h30 à 15h00On vous les rapporteJeudi23 avrilde 13h30 à 14h30\n\n\n\nOÙ:\n\n\n\n\nAu Centre Multifonctionnel\n\n\n\n\nPRIX PAR ITEM:\n\n\n\n\n6 $     Couteau\n\n\n\n7 $     Ciseaux\, Sécateurs\, Sécateurs à main\, Cisaille\, Hache\, Pelle demi-lune\n\n\n\n15 $    Scie à chaîne (démontée)\n\n\n\n17 $    Lame de tondeuse (aiguisée et repeinte)\n\n\n\n\nIMPORTANT:\n\n\n\n\nEnveloppez vos outils dans du papier journal\n\n\n\nMettez-les dans un sac identifié à votre nom\n\n\n\nPour les plus gros outils\, identifiez-les séparément\n\n\n\n\nPAIEMENT:\n\n\n\n\nAu moment où vous nous les apportez (20 avril)\n\n\n\nArgent comptant ou carte de débit\n\n\n\n\n  \n\n\n\nUN SERVICE POUR VOUS …..\n\n\n\nUNE ACTIVITÉ DE FINANCEMENT POUR NOUS
URL:https://ainesactifs.com/activite/service-daiguisage/
LOCATION:Centre Multifonctionnel\, 5 rue Laurette-Bellefleur\, Shefford\, Québec\, J2M 0E8\, Canada
CATEGORIES:Ateliers/Conférences
ATTACH;FMTTYPE=image/jpeg:https://ainesactifs.com/wp-content/uploads/2026/01/photo-realiste-1920-x-1080.jpg
END:VEVENT
BEGIN:VEVENT
DTSTART;TZID=America/Toronto:20260424T170000
DTEND;TZID=America/Toronto:20260424T230000
DTSTAMP:20260419T142243
CREATED:20260118T162814Z
LAST-MODIFIED:20260402T154122Z
UID:2670-1777050000-1777071600@ainesactifs.com
SUMMARY:P'TITE GUINGUETTE
DESCRIPTION:Soirée de Jasette\, de Danse et de Chansons\nOn vous attend pour une soirée joyeuse où la musique\, la danse et le karaoke sont à l’honneur. \n\n\n\nUn rendez-vous convivial pour partager un bon repas entre amis. \n\n\n\nChaque participant apporte un plat à partager (environ 6 portions)\, et ensemble\, on crée une ambiance festive et gourmande. \n\n\n\n\n\n  À apporter : \n\nun plat à partager (± 6 portions)\nvotre boisson\, alcoolisée ou non\nvotre bonne humeur et vos chaussures de danse !\n\n  \n\n\n\nParticipation : gratuite pour les membres\, 10$ pour les non-membres
URL:https://ainesactifs.com/activite/ptite-guinguette-3/
LOCATION:Centre Multifonctionnel\, 5 rue Laurette-Bellefleur\, Shefford\, Québec\, J2M 0E8\, Canada
CATEGORIES:Guinguettes
ATTACH;FMTTYPE=image/jpeg:https://ainesactifs.com/wp-content/uploads/2025/08/Musique-rouge-1920-x-1080.jpg
END:VEVENT
BEGIN:VEVENT
DTSTART;TZID=America/Toronto:20260429T133000
DTEND;TZID=America/Toronto:20260429T160000
DTSTAMP:20260419T142243
CREATED:20260417T133812Z
LAST-MODIFIED:20260417T210457Z
UID:3026-1777469400-1777478400@ainesactifs.com
SUMMARY:Assemblée Générale Annuelle (A.G.A.)
DESCRIPTION:Assemblée Générale Annuelle (A.G.A.)\n29 avril 2026 à 13h30\nCentre Multifonctionnel\, 5 rue Laurette-Bellefleur\nOrdre du jour\n\nOuverture par le président\n\nNomination – présidence de l’assemblée\nNomination – Secrétaire de l’assemblée\nVérification de la conformité de l’assemblée (quorum et convocation)\nQuestions portant sur l’ordre du jour\nAdoption de l’ordre du jour\nAdoption du procès-verbal de l’A.G.A. du 28 mai 2025\n\n\nRapport du président (bilan des activités)\nRapport du trésorier\n\nÉtats financiers au 31 mars 2026\nPrévisions budgétaires 2026-2027\n\n\nRapport du président (objectifs et planification 2026-2027)\nRatification des faits et gestes des administrateurs\nÉlection d’administrateurs (6 poste)\n\nNomination d’un(e) président(e) et d’un(e) secrétaire d’élection si nécessaire\nSix (6) poste en élection\n\n\nParole aux membres (période de questions et de suggestions)\nLevée de l’assemblée
URL:https://ainesactifs.com/activite/assemblee-generale-annuelle-a-g-a/
LOCATION:Centre Multifonctionnel\, 5 rue Laurette-Bellefleur\, Shefford\, Québec\, J2M 0E8\, Canada
CATEGORIES:A.G.A.,Ateliers/Conférences
ATTACH;FMTTYPE=image/png:https://ainesactifs.com/wp-content/uploads/2025/11/aines-actifs-GRAND-et-TRANSPARENT-1920-x-1080.png
END:VEVENT
END:VCALENDAR