BEGIN:VCALENDAR
VERSION:2.0
PRODID:-//Les Aînés Actifs + de Shefford - ECPv6.13.2.1//NONSGML v1.0//EN
CALSCALE:GREGORIAN
METHOD:PUBLISH
X-WR-CALNAME:Les Aînés Actifs + de Shefford
X-ORIGINAL-URL:https://ainesactifs.com
X-WR-CALDESC:Événements pour Les Aînés Actifs + de Shefford
REFRESH-INTERVAL;VALUE=DURATION:PT1H
X-Robots-Tag:noindex
X-PUBLISHED-TTL:PT1H
BEGIN:VTIMEZONE
TZID:America/Toronto
BEGIN:DAYLIGHT
TZOFFSETFROM:-0500
TZOFFSETTO:-0400
TZNAME:EDT
DTSTART:20260308T070000
END:DAYLIGHT
BEGIN:STANDARD
TZOFFSETFROM:-0400
TZOFFSETTO:-0500
TZNAME:EST
DTSTART:20261101T060000
END:STANDARD
END:VTIMEZONE
BEGIN:VEVENT
DTSTART;TZID=America/Toronto:20260304T133000
DTEND;TZID=America/Toronto:20260304T160000
DTSTAMP:20260419T160149
CREATED:20260114T145420Z
LAST-MODIFIED:20260114T145454Z
UID:2620-1772631000-1772640000@ainesactifs.com
SUMMARY:APRÈS-MIDI LUDIQUE
DESCRIPTION:JEUX DE CARTES\, DE BILLES\, DE TUILES\, ETC… \nou APPORTEZ VOTRE JEUX \nCAFÉ\, POPCORN\, PEANUTS… ET DU PLAISIR GARANTI! \nGRATUIT POUR LES MEMBRES – $5 POUR LES NON-MEMBRES 
URL:https://ainesactifs.com/activite/apres-midi-ludique/
LOCATION:Centre Multifonctionnel\, 5 rue Laurette-Bellefleur\, Shefford\, Québec\, J2M 0E8\, Canada
CATEGORIES:Après-midi Ludiques
ATTACH;FMTTYPE=image/jpeg:https://ainesactifs.com/wp-content/uploads/2025/12/Jeux-amis-1920-x-1080.jpg
END:VEVENT
BEGIN:VEVENT
DTSTART;TZID=America/Toronto:20260318T083000
DTEND;TZID=America/Toronto:20260318T083000
DTSTAMP:20260419T160149
CREATED:20260114T145942Z
LAST-MODIFIED:20260114T150113Z
UID:2627-1773822600-1773822600@ainesactifs.com
SUMMARY:CAFÉ-RENCONTRE
DESCRIPTION:Venez déjeuner avec les Aînés Actifs + et quelques élus!\nNouvel horaire:  entre 8h30 et 10h00\nUn moment chaleureux\, une discussion libre\, des sujets qui VOUS tiennent à cœur. \nAutour d’un bon déjeuner ou juste un café\, venez échanger librement avec les Aînés Actifs + et que!lques élus locaux. \nAucun ordre du jour : les sujets viennent de vous ! Que ce soit la vie de quartier\, les services\, les idées d’activités ou les enjeux qui vous préoccupent\, tout peut être abordé dans un esprit d’écoute et de convivialité. \nOUVERT À TOUS — jeunes\, aînés\, curieux\, engagés ou simplement gourmands de rencontres humaines. \nOn vous attend avec le café chaud et le sourire !
URL:https://ainesactifs.com/activite/cafe-rencontre/
LOCATION:Centre Multifonctionnel\, 5 rue Laurette-Bellefleur\, Shefford\, Québec\, J2M 0E8\, Canada
CATEGORIES:Cafés-Rencontre
ATTACH;FMTTYPE=image/jpeg:https://ainesactifs.com/wp-content/uploads/2025/10/Breakfast-format-1920-x-1080.jpg
END:VEVENT
BEGIN:VEVENT
DTSTART;TZID=America/Toronto:20260320T193000
DTEND;TZID=America/Toronto:20260320T193000
DTSTAMP:20260419T160149
CREATED:20251012T123514Z
LAST-MODIFIED:20251012T124047Z
UID:1111-1774035000-1774035000@ainesactifs.com
SUMMARY:LES GRANDS EXPLORATEURS - PÉROU vallée des Incas
DESCRIPTION:
URL:https://ainesactifs.com/activite/les-grands-explorateurs-perou/
LOCATION:Centre Multifonctionnel\, 5 rue Laurette-Bellefleur\, Shefford\, Québec\, J2M 0E8\, Canada
CATEGORIES:Les Grands Explorateurs
ATTACH;FMTTYPE=image/jpeg:https://ainesactifs.com/wp-content/uploads/2025/10/Film-3-1920-x-1080.jpg
END:VEVENT
BEGIN:VEVENT
DTSTART;TZID=America/Toronto:20260323T170000
DTEND;TZID=America/Toronto:20260323T170000
DTSTAMP:20260419T160149
CREATED:20260317T212939Z
LAST-MODIFIED:20260317T212939Z
UID:2972-1774285200-1774285200@ainesactifs.com
SUMMARY:SENTIERS BROMONT - PASSE DE SAISON
DESCRIPTION:INSCRIPTIONS PAR COURRIEL À: dvilleneuve1@gmail.com\nDATE LIMITE 23 MARS
URL:https://ainesactifs.com/activite/sentiers-bromont-passe-de-saison/
LOCATION:Québec
CATEGORIES:Club de Marche,Sports
ATTACH;FMTTYPE=image/png:https://ainesactifs.com/wp-content/uploads/2026/03/hiking-1920-X-1080.png
END:VEVENT
BEGIN:VEVENT
DTSTART;TZID=America/Toronto:20260325T133000
DTEND;TZID=America/Toronto:20260325T160000
DTSTAMP:20260419T160149
CREATED:20260119T221636Z
LAST-MODIFIED:20260119T221636Z
UID:2701-1774445400-1774454400@ainesactifs.com
SUMMARY:CONFÉRENCE - HISTOIRE DE LUNE
DESCRIPTION:
URL:https://ainesactifs.com/activite/conference-histoire-de-lune/
LOCATION:Centre Multifonctionnel\, 5 rue Laurette-Bellefleur\, Shefford\, Québec\, J2M 0E8\, Canada
CATEGORIES:Ateliers/Conférences
ATTACH;FMTTYPE=image/jpeg:https://ainesactifs.com/wp-content/uploads/2026/01/new-moon-1920-X-1080-LEGERE.jpg
END:VEVENT
BEGIN:VEVENT
DTSTART;TZID=America/Toronto:20260327T170000
DTEND;TZID=America/Toronto:20260327T230000
DTSTAMP:20260419T160149
CREATED:20260118T162127Z
LAST-MODIFIED:20260312T142518Z
UID:2667-1774630800-1774652400@ainesactifs.com
SUMMARY:P'TITE GUINGUETTE - THÈME 'DISCO'
DESCRIPTION: \n  \nSoirée de Jasette\, de Danse et de Chansons\nOn vous attend pour une soirée joyeuse où la musique\, la danse et le karaoke sont à l’honneur. \n\n\n\nUn rendez-vous convivial pour partager un bon repas entre amis. \n\n\n\nChaque participant apporte un plat à partager (environ 6 portions)\, et ensemble\, on crée une ambiance festive et gourmande. \n\n\n\n\n\nÀ apporter : \n\nun plat à partager (± 6 portions)\nvotre boisson\, alcoolisée ou non\nvotre bonne humeur et vos chaussures de danse !\n\n  \n\n\n \nParticipation : gratuite pour les membres\, 10$ pour les non-membres
URL:https://ainesactifs.com/activite/ptite-guinguette-2/
LOCATION:Centre Multifonctionnel\, 5 rue Laurette-Bellefleur\, Shefford\, Québec\, J2M 0E8\, Canada
CATEGORIES:Guinguettes
ATTACH;FMTTYPE=image/jpeg:https://ainesactifs.com/wp-content/uploads/2025/08/Musique-rouge-1920-x-1080.jpg
END:VEVENT
END:VCALENDAR