BEGIN:VCALENDAR
VERSION:2.0
PRODID:-//Les Aînés Actifs + de Shefford - ECPv6.13.2.1//NONSGML v1.0//EN
CALSCALE:GREGORIAN
METHOD:PUBLISH
X-ORIGINAL-URL:https://ainesactifs.com
X-WR-CALDESC:Événements pour Les Aînés Actifs + de Shefford
REFRESH-INTERVAL;VALUE=DURATION:PT1H
X-Robots-Tag:noindex
X-PUBLISHED-TTL:PT1H
BEGIN:VTIMEZONE
TZID:America/Toronto
BEGIN:DAYLIGHT
TZOFFSETFROM:-0500
TZOFFSETTO:-0400
TZNAME:EDT
DTSTART:20260308T070000
END:DAYLIGHT
BEGIN:STANDARD
TZOFFSETFROM:-0400
TZOFFSETTO:-0500
TZNAME:EST
DTSTART:20261101T060000
END:STANDARD
END:VTIMEZONE
BEGIN:VEVENT
DTSTART;TZID=America/Toronto:20260616T100000
DTEND;TZID=America/Toronto:20260616T110000
DTSTAMP:20260420T174719
CREATED:20260420T145535Z
LAST-MODIFIED:20260420T145535Z
UID:3077-1781604000-1781607600@ainesactifs.com
SUMMARY:ACTIVITÉS ESTIVALES SOUS LA GLORIETTE
DESCRIPTION:Encore une fois cette année\, un éventail de disciplines vous est offert pour bouger au grand air\, sous la gloriette du Parc de la Mairie.\nDu 16 juin au 10 septembre 2026\, les mardis et jeudis\, de 10h00 à 11h00.\nGratuit pour les membres\, $5 pour les non-membres.
URL:https://ainesactifs.com/activite/activites-estivales-sous-la-gloriette/
LOCATION:Parc de la Mairie\, 199 rue Robinson O\, Shefford\, Quebec\, J2M 1J2
CATEGORIES:Ateliers/Conférences,Gloriette,Sports
ATTACH;FMTTYPE=image/jpeg:https://ainesactifs.com/wp-content/uploads/2025/09/362232650_652107296950214_8496848375726964263_n.jpg
END:VEVENT
END:VCALENDAR