BEGIN:VCALENDAR
VERSION:2.0
PRODID:-//Les Aînés Actifs + de Shefford - ECPv6.13.2.1//NONSGML v1.0//EN
CALSCALE:GREGORIAN
METHOD:PUBLISH
X-ORIGINAL-URL:https://ainesactifs.com
X-WR-CALDESC:Événements pour Les Aînés Actifs + de Shefford
REFRESH-INTERVAL;VALUE=DURATION:PT1H
X-Robots-Tag:noindex
X-PUBLISHED-TTL:PT1H
BEGIN:VTIMEZONE
TZID:America/Toronto
BEGIN:DAYLIGHT
TZOFFSETFROM:-0500
TZOFFSETTO:-0400
TZNAME:EDT
DTSTART:20260308T070000
END:DAYLIGHT
BEGIN:STANDARD
TZOFFSETFROM:-0400
TZOFFSETTO:-0500
TZNAME:EST
DTSTART:20261101T060000
END:STANDARD
END:VTIMEZONE
BEGIN:VEVENT
DTSTART;TZID=America/Toronto:20260420T133000
DTEND;TZID=America/Toronto:20260420T150000
DTSTAMP:20260419T160425
CREATED:20260130T133657Z
LAST-MODIFIED:20260130T133719Z
UID:2738-1776691800-1776697200@ainesactifs.com
SUMMARY:SERVICE D'AIGUISAGE
DESCRIPTION:AIGUISAGE DE COUTEAUX\, CISEAUX\, OUTILS DE JARDINAGE\n\n\n\nAPPORTEZ-NOUS VOS OUTILS\, ON LES FERA AIGUISER PAR UN PROFESSIONNEL!\n\n\n\nQUAND:\n\n\n\nOn les accepteLundi20 avrilde 13h30 à 15h00On vous les rapporteJeudi23 avrilde 13h30 à 14h30\n\n\n\nOÙ:\n\n\n\n\nAu Centre Multifonctionnel\n\n\n\n\nPRIX PAR ITEM:\n\n\n\n\n6 $     Couteau\n\n\n\n7 $     Ciseaux\, Sécateurs\, Sécateurs à main\, Cisaille\, Hache\, Pelle demi-lune\n\n\n\n15 $    Scie à chaîne (démontée)\n\n\n\n17 $    Lame de tondeuse (aiguisée et repeinte)\n\n\n\n\nIMPORTANT:\n\n\n\n\nEnveloppez vos outils dans du papier journal\n\n\n\nMettez-les dans un sac identifié à votre nom\n\n\n\nPour les plus gros outils\, identifiez-les séparément\n\n\n\n\nPAIEMENT:\n\n\n\n\nAu moment où vous nous les apportez (20 avril)\n\n\n\nArgent comptant ou carte de débit\n\n\n\n\n  \n\n\n\nUN SERVICE POUR VOUS …..\n\n\n\nUNE ACTIVITÉ DE FINANCEMENT POUR NOUS
URL:https://ainesactifs.com/activite/service-daiguisage/
LOCATION:Centre Multifonctionnel\, 5 rue Laurette-Bellefleur\, Shefford\, Québec\, J2M 0E8\, Canada
CATEGORIES:Ateliers/Conférences
ATTACH;FMTTYPE=image/jpeg:https://ainesactifs.com/wp-content/uploads/2026/01/photo-realiste-1920-x-1080.jpg
END:VEVENT
END:VCALENDAR