BEGIN:VCALENDAR
VERSION:2.0
PRODID:-//Les Aînés Actifs + de Shefford - ECPv6.13.2.1//NONSGML v1.0//EN
CALSCALE:GREGORIAN
METHOD:PUBLISH
X-ORIGINAL-URL:https://ainesactifs.com
X-WR-CALDESC:Événements pour Les Aînés Actifs + de Shefford
REFRESH-INTERVAL;VALUE=DURATION:PT1H
X-Robots-Tag:noindex
X-PUBLISHED-TTL:PT1H
BEGIN:VTIMEZONE
TZID:America/Toronto
BEGIN:DAYLIGHT
TZOFFSETFROM:-0500
TZOFFSETTO:-0400
TZNAME:EDT
DTSTART:20260308T070000
END:DAYLIGHT
BEGIN:STANDARD
TZOFFSETFROM:-0400
TZOFFSETTO:-0500
TZNAME:EST
DTSTART:20261101T060000
END:STANDARD
END:VTIMEZONE
BEGIN:VEVENT
DTSTART;TZID=America/Toronto:20260415T083000
DTEND;TZID=America/Toronto:20260415T100000
DTSTAMP:20260419T160457
CREATED:20260114T150418Z
LAST-MODIFIED:20260114T150418Z
UID:2635-1776241800-1776247200@ainesactifs.com
SUMMARY:CAFÉ-RENCONTRE
DESCRIPTION:Venez déjeuner avec les Aînés Actifs + et quelques élus!\nNouvel horaire:  entre 8h30 et 10h00\nUn moment chaleureux\, une discussion libre\, des sujets qui VOUS tiennent à cœur. \nAutour d’un bon déjeuner ou juste un café\, venez échanger librement avec les Aînés Actifs + et que!lques élus locaux. \nAucun ordre du jour : les sujets viennent de vous ! Que ce soit la vie de quartier\, les services\, les idées d’activités ou les enjeux qui vous préoccupent\, tout peut être abordé dans un esprit d’écoute et de convivialité. \nOUVERT À TOUS — jeunes\, aînés\, curieux\, engagés ou simplement gourmands de rencontres humaines. \nOn vous attend avec le café chaud et le sourire !
URL:https://ainesactifs.com/activite/cafe-rencontre-2/
LOCATION:Centre Multifonctionnel\, 5 rue Laurette-Bellefleur\, Shefford\, Québec\, J2M 0E8\, Canada
CATEGORIES:Cafés-Rencontre
ATTACH;FMTTYPE=image/jpeg:https://ainesactifs.com/wp-content/uploads/2025/10/Breakfast-format-1920-x-1080.jpg
END:VEVENT
BEGIN:VEVENT
DTSTART;TZID=America/Toronto:20260415T133000
DTEND;TZID=America/Toronto:20260415T160000
DTSTAMP:20260419T160457
CREATED:20260208T121033Z
LAST-MODIFIED:20260208T121033Z
UID:2819-1776259800-1776268800@ainesactifs.com
SUMMARY:ATELIER-CONFÉRENCE - CONSCIENCE SOMATIQUE
DESCRIPTION:avec SYLVIE BÉLIVEAU\, \nM.A. et DESS en Éducation Somatique\n\nManger avec plaisir et sagesse grâce à la conscience corporelle\n\nNous savons pourquoi\, quand\, quoi manger\, mais savons-nous réellement comment nous mangeons?\nSommes-nous conscients de nos habitudes gestuelles\, posturales et même de notre expression faciale pouvant interférer dans l’action de manger?\n\n\nPour améliorer la conscience du corps en mouvement\, la qualité gestuelle et le bien‑être global\n\nRevisiter vos habitudes corporelles liées à l’acte de manger\nDécouvrir des clés pour manger avec plaisir et plus de sagesse\n\n(il ne s’agit pas d’un régime alimentaire)\n\n\nExploration somatique sur chaise – mouvements faciles\, doux\, inhabituels permettant une meilleur prise de conscience\n\n\nConsignes:\n\nApportez un petit carnet de notes et un crayon\nPortez des vêtements confortables qui vous gardent au chaud
URL:https://ainesactifs.com/activite/atelier-conference-conscience-somatique/
LOCATION:Centre Multifonctionnel\, 5 rue Laurette-Bellefleur\, Shefford\, Québec\, J2M 0E8\, Canada
CATEGORIES:Ateliers/Conférences
ATTACH;FMTTYPE=image/jpeg:https://ainesactifs.com/wp-content/uploads/2026/02/geralt-gold-1920-x-1080.jpg
END:VEVENT
END:VCALENDAR