BEGIN:VCALENDAR
VERSION:2.0
PRODID:-//Les Aînés Actifs + de Shefford - ECPv6.13.2.1//NONSGML v1.0//EN
CALSCALE:GREGORIAN
METHOD:PUBLISH
X-WR-CALNAME:Les Aînés Actifs + de Shefford
X-ORIGINAL-URL:https://ainesactifs.com
X-WR-CALDESC:Événements pour Les Aînés Actifs + de Shefford
REFRESH-INTERVAL;VALUE=DURATION:PT1H
X-Robots-Tag:noindex
X-PUBLISHED-TTL:PT1H
BEGIN:VTIMEZONE
TZID:America/Toronto
BEGIN:DAYLIGHT
TZOFFSETFROM:-0500
TZOFFSETTO:-0400
TZNAME:EDT
DTSTART:20260308T070000
END:DAYLIGHT
BEGIN:STANDARD
TZOFFSETFROM:-0400
TZOFFSETTO:-0500
TZNAME:EST
DTSTART:20261101T060000
END:STANDARD
END:VTIMEZONE
BEGIN:VEVENT
DTSTART;TZID=America/Toronto:20260409T083000
DTEND;TZID=America/Toronto:20260409T103000
DTSTAMP:20260419T160322
CREATED:20260316T105929Z
LAST-MODIFIED:20260316T135549Z
UID:2951-1775723400-1775730600@ainesactifs.com
SUMMARY:MARCHE ACTIVE - SESSION AVRIL 2026
DESCRIPTION:INSCRIPTIONS VIA LA PAGE   Nous joindre
URL:https://ainesactifs.com/activite/marche-active-session-avril-2026/
LOCATION:J.P. Forand\, 167 chemin Picard\, Shefford
CATEGORIES:Club de Marche,Sports
ATTACH;FMTTYPE=image/jpeg:https://ainesactifs.com/wp-content/uploads/2025/12/Marche-active-a-1920-x-1080.jpg
END:VEVENT
END:VCALENDAR