BEGIN:VCALENDAR
VERSION:2.0
PRODID:-//Les Aînés Actifs + de Shefford - ECPv6.13.2.1//NONSGML v1.0//EN
CALSCALE:GREGORIAN
METHOD:PUBLISH
X-ORIGINAL-URL:https://ainesactifs.com
X-WR-CALDESC:Événements pour Les Aînés Actifs + de Shefford
REFRESH-INTERVAL;VALUE=DURATION:PT1H
X-Robots-Tag:noindex
X-PUBLISHED-TTL:PT1H
BEGIN:VTIMEZONE
TZID:America/Toronto
BEGIN:DAYLIGHT
TZOFFSETFROM:-0500
TZOFFSETTO:-0400
TZNAME:EDT
DTSTART:20260308T070000
END:DAYLIGHT
BEGIN:STANDARD
TZOFFSETFROM:-0400
TZOFFSETTO:-0500
TZNAME:EST
DTSTART:20261101T060000
END:STANDARD
END:VTIMEZONE
BEGIN:VEVENT
DTSTART;TZID=America/Toronto:20260401T133000
DTEND;TZID=America/Toronto:20260401T160000
DTSTAMP:20260419T160518
CREATED:20260114T151150Z
LAST-MODIFIED:20260114T151150Z
UID:2639-1775050200-1775059200@ainesactifs.com
SUMMARY:APRÈS-MIDI LUDIQUE
DESCRIPTION:JEUX DE CARTES\, DE BILLES\, DE TUILES\, ETC… \nou APPORTEZ VOTRE JEUX \nCAFÉ\, POPCORN\, PEANUTS… ET DU PLAISIR GARANTI! \nGRATUIT POUR LES MEMBRES – $5 POUR LES NON-MEMBRES
URL:https://ainesactifs.com/activite/apres-midi-ludique-2/
LOCATION:Centre Multifonctionnel\, 5 rue Laurette-Bellefleur\, Shefford\, Québec\, J2M 0E8\, Canada
CATEGORIES:Après-midi Ludiques
ATTACH;FMTTYPE=image/jpeg:https://ainesactifs.com/wp-content/uploads/2025/12/Jeux-amis-1920-x-1080.jpg
END:VEVENT
END:VCALENDAR